BEGIN:VCALENDAR
VERSION:2.0
PRODID:-//Lentohotelli - ECPv6.15.18//NONSGML v1.0//EN
CALSCALE:GREGORIAN
METHOD:PUBLISH
X-ORIGINAL-URL:https://lentohotelli.fi
X-WR-CALDESC:Tapahtumat Lentohotelli
REFRESH-INTERVAL;VALUE=DURATION:PT1H
X-Robots-Tag:noindex
X-PUBLISHED-TTL:PT1H
BEGIN:VTIMEZONE
TZID:Europe/Helsinki
BEGIN:DAYLIGHT
TZOFFSETFROM:+0200
TZOFFSETTO:+0300
TZNAME:EEST
DTSTART:20250330T010000
END:DAYLIGHT
BEGIN:STANDARD
TZOFFSETFROM:+0300
TZOFFSETTO:+0200
TZNAME:EET
DTSTART:20251026T010000
END:STANDARD
BEGIN:DAYLIGHT
TZOFFSETFROM:+0200
TZOFFSETTO:+0300
TZNAME:EEST
DTSTART:20260329T010000
END:DAYLIGHT
BEGIN:STANDARD
TZOFFSETFROM:+0300
TZOFFSETTO:+0200
TZNAME:EET
DTSTART:20261025T010000
END:STANDARD
BEGIN:DAYLIGHT
TZOFFSETFROM:+0200
TZOFFSETTO:+0300
TZNAME:EEST
DTSTART:20270328T010000
END:DAYLIGHT
BEGIN:STANDARD
TZOFFSETFROM:+0300
TZOFFSETTO:+0200
TZNAME:EET
DTSTART:20271031T010000
END:STANDARD
END:VTIMEZONE
BEGIN:VEVENT
DTSTART;VALUE=DATE:20260626
DTEND;VALUE=DATE:20260701
DTSTAMP:20260421T115727
CREATED:20260120T111840Z
LAST-MODIFIED:20260120T111840Z
UID:10838-1782453600-1782799199@lentohotelli.fi
SUMMARY:SRK:n Suviseurat Kauhavalla
DESCRIPTION:Tervetuloa Suviseuroihin Kauhavalle 2026!\nEnsi kesän Suviseurat järjestetään Kauhavalla 26.–29.6.2026.\nSeurakenttä on lentokenttäalue\, joka oli käytössä vuoden 2023 Suviseuroissa.  \nKAIKKI LENTOHOTELLIN MAJOITUKSET OVAT TÄYNNÄ JA VARATTAVISSA VAIN SUVISEURAORGANISAATION KAUTTA! \nLENTOHOTELLIN RAVINTOLA SULJETTUNA 22.-28.6 VÄLISEN AJAN \nPäävastuu suviseurajärjestelyistä on Ylivieskan Rauhanyhdistyksellä. Järjestelyvastuussa ovat myös naapurirauhanyhdistykset Alavieskasta\, Kalajoelta\, Kannuksesta\, Merijärveltä\, Oulaisista\, Sievistä sekä Toholammilta ja Lestijärveltä. \nPäätoimikunta on eri toimikuntien kanssa valmistellut Suviseuroja kiitollisena ja kokenut Jumalan suurta siunausta työn aikana. Rukouksena on\, että Jumalan sana saisi sekä virvoittaa sanankuulijoita että kutsua Jumalan valtakuntaan. \nJos Jumala suo\, saamme kokea tunnuslauseen sanoman omakohtaisesti. Voimme kohdata jälleen toinen toisem­me. \nSydämellisesti tervetuloa Suviseuroihin Kauhavalle!
URL:https://lentohotelli.fi/tapahtuma/srkn-suviseurat-kauhavalla/
LOCATION:LSK Business Park
CATEGORIES:suurtapahtumat,tapahtumat,yleisötapahtuma
ATTACH;FMTTYPE=image/jpeg:https://lentohotelli.fi/wp-content/uploads/Artikkelikuva-Suviseurat.jpg
END:VEVENT
BEGIN:VEVENT
DTSTART;VALUE=DATE:20260704
DTEND;VALUE=DATE:20260706
DTSTAMP:20260421T115728
CREATED:20260126T100006Z
LAST-MODIFIED:20260126T100807Z
UID:10894-1783144800-1783231199@lentohotelli.fi
SUMMARY:Leikitään Pikku Kakkosta -kesäkiertue 2026
DESCRIPTION:Leikitään Pikku Kakkosta -kesäkiertue Kauhavalla\nLSK Business Parkissa La 4.7.2026 \n  \nLeikin ja ilon juhlaa koko perheelle viidellä uudella paikkakunnalla. \nKesä 2026 tuo taas mukanaan odotetun Leikitään Pikku Kakkosta -kesäkiertueen levittäen Pikku Kakkosen leikkisän ja lämminhenkisen tunnelman viidelle uudelle paikkakunnalle: Saloon\, Kotkaan\, Ruokolahdelle\, Hämeenlinnaan ja Kauhavalle. Sekä toukokuussa järjestettävään Ylen kesäjuhlaan. \nTarkemmat tiedot kiertueen tapahtumapaikoista julkistetaan maalis-huhtikuussa 2026. \nMannerheimin Lastensuojeluliiton kanssa yhdessä toteutettavat maksuttomat Leikitään Pikku Kakkosta -tapahtumapäivät tarjoavat lapsille ja lapsiperheille unohtumattomia hetkiä täynnä leikkiä\, musiikkia ja yhteistä riemua. Päivät huipentuvat Leikitään Pikku Kakkosta -konsertteihin\, joissa Pikku Kakkosen tutut hahmot ja lapset kohtaavat laulun ja leikin merkeissä. \nTapahtumien ilmainen sisäänpääsy ja maksuttomuus tarjoaa lapsiperheille ainutlaatuisen mahdollisuuden viettää aikaa yhdessä\, tutustua uusiin ystäviin ja nauttia Pikku Kakkosen maailmasta tosielämässä. Tapahtumien lämmin tunnelma ja yhteinen tekeminen tukevat lasten rohkeutta\, luovuutta ja hyvinvointia. Samalla perheet saavat arvokkaita yhteisiä muistoja\, jotka kantavat pitkälle arkeen. \n  \nKuva: Yle Pikku Kakkonen
URL:https://lentohotelli.fi/tapahtuma/leikitaan-pikku-kakkosta-kesakiertue-2026/
LOCATION:LSK Business Park
CATEGORIES:suurtapahtumat,tapahtumat,yleisötapahtuma
ATTACH;FMTTYPE=image/png:https://lentohotelli.fi/wp-content/uploads/Pikkukakkonen-artikkelikuva.png
END:VEVENT
BEGIN:VEVENT
DTSTART;TZID=Europe/Helsinki:20260711T180000
DTEND;TZID=Europe/Helsinki:20260730T180000
DTSTAMP:20260421T115728
CREATED:20260120T130819Z
LAST-MODIFIED:20260120T131229Z
UID:10859-1783792800-1785434400@lentohotelli.fi
SUMMARY:Lappajärven kesäteatteri: Rakkaus vaihtaa huonetta
DESCRIPTION:Rakkaus vaihtaa huonetta on hyväntuulinen komedia siitä\, miten sydän joskus tekee omat varauksensa — ja vieläpä eri kerrokseen kuin järki.\n\n\nKaikki toivovat täydellisen onnellista häämatkaa\, mutta mitä tapahtuu kun tunteet kirjautuvat sisään väärään huoneeseen. Kaksi pariskuntaa\, yksi hotelli ja salattu menneisyys\, joka kolkuttaa naapurihuoneen ovella – joskus kirjaimellisesti!\nLentohotellista teatteripaketit vain ryhmille!\nTeatteriloma ryhmille 1 vrk 117€ / hlö (min. 20 hlöä) \nMajoitus 2hh\, aamiainen\, teatterilippu\, ruokailu Lentohotellin seisovasta pöydästä\, asiakassauna ja kuntosali.\nYhden hengen huonelisä 30€. \nPäiväpaketti ryhmille 54€ / hlö (min. 20 hlöä) \nTeatterilippu ja ruokailu seisovasta pöydästä Lentohotellin ravintolassa. \nVaraukset ja lisätiedot: Lentohotellin ryhmämyynti\nmyynti@lentohotelli.fi tai 0400-152050 \n\nEsitykset:  \n\n\n\n\n\nLauantaina 11.7. klo 14.00\nTiistaina 14.7. klo 18:00\n\nKeskiviikkona 15.7. klo 18:00\nTorstaina 16.7. klo 18:00\nLauantaina 18.7. klo 14:00\nSunnuntaina 19.7. klo 14:00\nTiistaina 21.07. klo 18:00\nKeskiviikkona 22.7. klo 18:00\nTorstaina 23.2. klo 18:00\nLauantaina 25.7. klo 14:00\nSunnuntaina 26.7. klo 14:00\nMaanantaina 27.7. klo 18:00\nTiistaina 28.7. klo 18:00\nKeskiviikkona 29.7. klo 14:00\nKeskiviikkona 29.7. klo 18:00\nTorstaina 30.7. klo 18:00
URL:https://lentohotelli.fi/tapahtuma/rakkaus-vaihtaa-huonetta-lappajarven-kesateatterissa-2026/
LOCATION:Lappajärven Kesäteatteri\, Itäkyläntie 97\, Lappajärvi\, 62600
CATEGORIES:ravintola,tapahtumat,yleisötapahtuma
ATTACH;FMTTYPE=image/jpeg:https://lentohotelli.fi/wp-content/uploads/Artikkelikuva-kesateatteri.jpg
END:VEVENT
BEGIN:VEVENT
DTSTART;VALUE=DATE:20260717
DTEND;VALUE=DATE:20260721
DTSTAMP:20260421T115728
CREATED:20260120T115313Z
LAST-MODIFIED:20260120T115313Z
UID:10854-1784268000-1784527199@lentohotelli.fi
SUMMARY:FHRA Kiihdytysajon SM-sarja
DESCRIPTION:Kiihdytysajon SM-sarja\n\n\nMaailman nopein moottoriurheilulaji on täynnä näyttäviä ajoneuvoja\, upeita suorituksia ja räjähtävää koettavaa. Kilpa-radalla uhmataan pitoa\, siirrytään nollasta sataan linja-auton mitalla ja tarjotaan viihdyttäviä kokemuksia koko perheelle. \n\n17.7. / Street Drags & Test’n Tune\, LSK Business Park\, Kauhava \n  \nBlåkläder Drag Racing Series 2026\, Kiihdytysajon SM-sarja \n16.-17.5. / LSK Business Park\, Kauhava\n13.-14.6. / Motopark \, Pieksämäki\n18.-19.7. / LSK Business Park\, Kauhava\n5.-6.9. / Motopark\, Pieksämäki
URL:https://lentohotelli.fi/tapahtuma/fhra-kiihdytysajon-sm-sarja/
LOCATION:LSK Business Park
ATTACH;FMTTYPE=image/jpeg:https://lentohotelli.fi/wp-content/uploads/Artikkelikuva-FHRA.jpg
END:VEVENT
END:VCALENDAR